Package: OSAT Version: 1.59.0 Command: /home/biocbuild/bbs-3.23-bioc/R/bin/R CMD check --install=check:OSAT.install-out.txt --library=/home/biocbuild/bbs-3.23-bioc/R/site-library --timings OSAT_1.59.0.tar.gz StartedAt: 2025-11-06 02:14:26 -0500 (Thu, 06 Nov 2025) EndedAt: 2025-11-06 02:15:18 -0500 (Thu, 06 Nov 2025) EllapsedTime: 52.2 seconds RetCode: 0 Status: OK CheckDir: OSAT.Rcheck Warnings: 0