Package: OSAT Version: 1.59.0 Command: /home/biocbuild/bbs-3.23-bioc/R/bin/R CMD build --keep-empty-dirs --no-resave-data OSAT StartedAt: 2025-10-31 19:17:15 -0400 (Fri, 31 Oct 2025) EndedAt: 2025-10-31 19:18:16 -0400 (Fri, 31 Oct 2025) EllapsedTime: 61.1 seconds RetCode: 0 Status: OK PackageFile: OSAT_1.59.0.tar.gz PackageFileSize: 960 KiB