Package: OSAT Version: 1.59.0 Command: /Library/Frameworks/R.framework/Resources/bin/R CMD check --install=check:OSAT.install-out.txt --library=/Library/Frameworks/R.framework/Resources/library --no-vignettes --timings OSAT_1.59.0.tar.gz StartedAt: 2025-11-23 21:32:59 -0500 (Sun, 23 Nov 2025) EndedAt: 2025-11-23 21:33:19 -0500 (Sun, 23 Nov 2025) EllapsedTime: 20.2 seconds RetCode: 0 Status: OK CheckDir: OSAT.Rcheck Warnings: 0