Package: ORFik Version: 1.29.9 Command: /home/biocbuild/bbs-3.22-bioc/R/bin/R CMD check --install=check:ORFik.install-out.txt --library=/home/biocbuild/bbs-3.22-bioc/R/site-library --timings ORFik_1.29.9.tar.gz StartedAt: 2025-10-22 02:56:35 -0400 (Wed, 22 Oct 2025) EndedAt: 2025-10-22 03:13:44 -0400 (Wed, 22 Oct 2025) EllapsedTime: 1029.2 seconds RetCode: 0 Status: OK CheckDir: ORFik.Rcheck Warnings: 0