Package: ORFik Version: 1.31.0 Command: /home/biocbuild/bbs-3.23-bioc/R/bin/R CMD build --keep-empty-dirs --no-resave-data ORFik StartedAt: 2025-11-03 18:58:46 -0500 (Mon, 03 Nov 2025) EndedAt: 2025-11-03 19:04:59 -0500 (Mon, 03 Nov 2025) EllapsedTime: 373.5 seconds RetCode: 0 Status: OK PackageFile: ORFik_1.31.0.tar.gz PackageFileSize: 4.185 MiB