Package: ORFik Version: 1.29.9 Maintainer: Haakon Tjeldnes MaintainerEmail: hauken_heyken at hotmail.com git_url: https://git.bioconductor.org/packages/ORFik git_branch: devel git_last_commit: 91fe5a2 git_last_commit_date: 2025-09-19 07:15:59 -0400 (Fri, 19 Sep 2025)