Package: ORFhunteR Version: 1.19.0 Command: /home/biocbuild/bbs-3.23-bioc/R/bin/R CMD INSTALL ORFhunteR StartedAt: 2025-11-04 15:34:05 -0500 (Tue, 04 Nov 2025) EndedAt: 2025-11-04 15:34:48 -0500 (Tue, 04 Nov 2025) EllapsedTime: 43.2 seconds RetCode: 0 Status: OK