Package: ORFhunteR Version: 1.17.0 Command: /Library/Frameworks/R.framework/Resources/bin/R CMD INSTALL ORFhunteR StartedAt: 2025-10-13 15:34:09 -0400 (Mon, 13 Oct 2025) EndedAt: 2025-10-13 15:35:05 -0400 (Mon, 13 Oct 2025) EllapsedTime: 56.0 seconds RetCode: 0 Status: OK