Package: ORFhunteR Version: 1.17.0 Command: /Library/Frameworks/R.framework/Resources/bin/R CMD build --keep-empty-dirs --no-resave-data ORFhunteR StartedAt: 2025-10-13 18:33:30 -0400 (Mon, 13 Oct 2025) EndedAt: 2025-10-13 18:41:26 -0400 (Mon, 13 Oct 2025) EllapsedTime: 476.2 seconds RetCode: 0 Status: OK PackageFile: ORFhunteR_1.17.0.tar.gz PackageFileSize: 2.108 MiB