Package: OPWeight Version: 1.33.0 Command: /Library/Frameworks/R.framework/Resources/bin/R CMD INSTALL OPWeight StartedAt: 2025-11-21 15:15:13 -0500 (Fri, 21 Nov 2025) EndedAt: 2025-11-21 15:15:37 -0500 (Fri, 21 Nov 2025) EllapsedTime: 23.2 seconds RetCode: 0 Status: OK