Package: OPWeight Version: 1.33.0 Command: /Library/Frameworks/R.framework/Resources/bin/R CMD build --keep-empty-dirs --no-resave-data OPWeight StartedAt: 2025-11-21 18:03:17 -0500 (Fri, 21 Nov 2025) EndedAt: 2025-11-21 18:06:05 -0500 (Fri, 21 Nov 2025) EllapsedTime: 168.9 seconds RetCode: 0 Status: OK PackageFile: OPWeight_1.33.0.tar.gz PackageFileSize: 491.4 KiB