Package: OPWeight Version: 1.33.0 Command: rm -rf OPWeight.buildbin-libdir && mkdir OPWeight.buildbin-libdir && /Users/biocbuild/BBS/utils/build-universal.sh OPWeight_1.33.0.tar.gz /Library/Frameworks/R.framework/Resources/bin/R OPWeight.buildbin-libdir StartedAt: 2025-11-22 01:48:16 -0500 (Sat, 22 Nov 2025) EndedAt: 2025-11-22 01:48:26 -0500 (Sat, 22 Nov 2025) EllapsedTime: 10.3 seconds RetCode: 0 Status: OK PackageFile: OPWeight_1.33.0.tgz PackageFileSize: 524 KiB