Package: OPWeight Version: 1.31.0 Command: /Library/Frameworks/R.framework/Resources/bin/R CMD build --keep-empty-dirs --no-resave-data OPWeight StartedAt: 2025-10-23 17:18:34 -0400 (Thu, 23 Oct 2025) EndedAt: 2025-10-23 17:19:40 -0400 (Thu, 23 Oct 2025) EllapsedTime: 65.7 seconds RetCode: 0 Status: OK PackageFile: OPWeight_1.31.0.tar.gz PackageFileSize: 491.5 KiB