Package: OMICsPCA Version: 1.29.0 Command: /home/biocbuild/bbs-3.23-bioc/R/bin/R CMD build --keep-empty-dirs --no-resave-data OMICsPCA StartedAt: 2025-11-20 19:04:18 -0500 (Thu, 20 Nov 2025) EndedAt: 2025-11-20 19:06:21 -0500 (Thu, 20 Nov 2025) EllapsedTime: 123.1 seconds RetCode: 0 Status: OK PackageFile: OMICsPCA_1.29.0.tar.gz PackageFileSize: 5.034 MiB