Package: OMICsPCA Version: 1.27.1 Command: /Library/Frameworks/R.framework/Resources/bin/R CMD INSTALL OMICsPCA StartedAt: 2025-10-17 15:46:43 -0400 (Fri, 17 Oct 2025) EndedAt: 2025-10-17 15:47:53 -0400 (Fri, 17 Oct 2025) EllapsedTime: 70.6 seconds RetCode: 0 Status: OK