Package: OMICsPCA Version: 1.27.1 Command: rm -rf OMICsPCA.buildbin-libdir && mkdir OMICsPCA.buildbin-libdir && /Users/biocbuild/BBS/utils/build-universal.sh OMICsPCA_1.27.1.tar.gz /Library/Frameworks/R.framework/Resources/bin/R OMICsPCA.buildbin-libdir StartedAt: 2025-10-17 04:04:27 -0400 (Fri, 17 Oct 2025) EndedAt: 2025-10-17 04:05:41 -0400 (Fri, 17 Oct 2025) EllapsedTime: 74.0 seconds RetCode: 0 Status: OK PackageFile: OMICsPCA_1.27.1.tgz PackageFileSize: 7.846 MiB