Package: OMICsPCA Version: 1.27.1 Command: /Library/Frameworks/R.framework/Resources/bin/R CMD INSTALL OMICsPCA StartedAt: 2025-09-30 15:28:22 -0400 (Tue, 30 Sep 2025) EndedAt: 2025-09-30 15:28:42 -0400 (Tue, 30 Sep 2025) EllapsedTime: 20.4 seconds RetCode: 0 Status: OK