Package: OMICsPCA Version: 1.27.1 Command: /Library/Frameworks/R.framework/Resources/bin/R CMD build --keep-empty-dirs --no-resave-data OMICsPCA StartedAt: 2025-09-30 17:17:37 -0400 (Tue, 30 Sep 2025) EndedAt: 2025-09-30 17:18:27 -0400 (Tue, 30 Sep 2025) EllapsedTime: 50.6 seconds RetCode: 0 Status: OK PackageFile: OMICsPCA_1.27.1.tar.gz PackageFileSize: 7.746 MiB