Package: OLINgui Version: 1.85.0 Command: /home/biocbuild/bbs-3.23-bioc/R/bin/R CMD INSTALL OLINgui StartedAt: 2025-11-20 15:04:41 -0500 (Thu, 20 Nov 2025) EndedAt: 2025-11-20 15:04:46 -0500 (Thu, 20 Nov 2025) EllapsedTime: 4.8 seconds RetCode: 0 Status: OK