Package: OLINgui Version: 1.85.0 Command: /Library/Frameworks/R.framework/Resources/bin/R CMD INSTALL OLINgui StartedAt: 2025-11-23 15:18:12 -0500 (Sun, 23 Nov 2025) EndedAt: 2025-11-23 15:19:09 -0500 (Sun, 23 Nov 2025) EllapsedTime: 57.7 seconds RetCode: 0 Status: OK