Package: OLINgui Version: 1.85.0 Command: /Library/Frameworks/R.framework/Resources/bin/R CMD build --keep-empty-dirs --no-resave-data OLINgui StartedAt: 2025-11-21 18:01:15 -0500 (Fri, 21 Nov 2025) EndedAt: 2025-11-21 18:01:31 -0500 (Fri, 21 Nov 2025) EllapsedTime: 16.1 seconds RetCode: 0 Status: OK PackageFile: OLINgui_1.85.0.tar.gz PackageFileSize: 373.6 KiB