Package: OLINgui Version: 1.85.0 Command: rm -rf OLINgui.buildbin-libdir && mkdir OLINgui.buildbin-libdir && /Users/biocbuild/BBS/utils/build-universal.sh OLINgui_1.85.0.tar.gz /Library/Frameworks/R.framework/Resources/bin/R OLINgui.buildbin-libdir StartedAt: 2025-11-22 01:47:44 -0500 (Sat, 22 Nov 2025) EndedAt: 2025-11-22 01:47:55 -0500 (Sat, 22 Nov 2025) EllapsedTime: 11.5 seconds RetCode: 0 Status: OK PackageFile: OLINgui_1.85.0.tgz PackageFileSize: 363.9 KiB