Package: OLINgui Version: 1.83.0 Command: /Library/Frameworks/R.framework/Resources/bin/R CMD INSTALL OLINgui StartedAt: 2025-10-26 15:03:00 -0400 (Sun, 26 Oct 2025) EndedAt: 2025-10-26 15:03:03 -0400 (Sun, 26 Oct 2025) EllapsedTime: 3.3 seconds RetCode: 0 Status: OK