Package: OLINgui Version: 1.83.0 Command: /Library/Frameworks/R.framework/Resources/bin/R CMD build --keep-empty-dirs --no-resave-data OLINgui StartedAt: 2025-10-26 17:25:08 -0400 (Sun, 26 Oct 2025) EndedAt: 2025-10-26 17:25:13 -0400 (Sun, 26 Oct 2025) EllapsedTime: 5.1 seconds RetCode: 0 Status: OK PackageFile: OLINgui_1.83.0.tar.gz PackageFileSize: 374.4 KiB