Package: OLIN Version: 1.87.0 Command: /home/biocbuild/bbs-3.22-bioc/R/bin/R CMD INSTALL OLIN StartedAt: 2025-10-27 15:06:15 -0400 (Mon, 27 Oct 2025) EndedAt: 2025-10-27 15:06:36 -0400 (Mon, 27 Oct 2025) EllapsedTime: 20.8 seconds RetCode: 0 Status: OK