Package: OLIN Version: 1.87.0 Command: /home/biocbuild/bbs-3.22-bioc/R/bin/R CMD build --keep-empty-dirs --no-resave-data --md5 OLIN StartedAt: 2025-10-27 19:04:51 -0400 (Mon, 27 Oct 2025) EndedAt: 2025-10-27 19:05:20 -0400 (Mon, 27 Oct 2025) EllapsedTime: 29.0 seconds RetCode: 0 Status: OK PackageFile: OLIN_1.87.0.tar.gz PackageFileSize: 2.558 MiB