Package: OGRE Version: 1.15.0 Command: /home/biocbuild/bbs-3.23-bioc/R/bin/R CMD INSTALL OGRE StartedAt: 2025-11-20 15:48:33 -0500 (Thu, 20 Nov 2025) EndedAt: 2025-11-20 15:49:24 -0500 (Thu, 20 Nov 2025) EllapsedTime: 51.3 seconds RetCode: 0 Status: OK