Package: OGRE Version: 1.15.0 Command: /home/biocbuild/bbs-3.23-bioc/R/bin/R CMD build --keep-empty-dirs --no-resave-data OGRE StartedAt: 2025-11-20 19:03:13 -0500 (Thu, 20 Nov 2025) EndedAt: 2025-11-20 19:04:52 -0500 (Thu, 20 Nov 2025) EllapsedTime: 99.1 seconds RetCode: 0 Status: OK PackageFile: OGRE_1.15.0.tar.gz PackageFileSize: 1.711 MiB