Package: OGRE Version: 1.15.0 Command: /Library/Frameworks/R.framework/Resources/bin/R CMD build --keep-empty-dirs --no-resave-data OGRE StartedAt: 2025-11-21 18:01:06 -0500 (Fri, 21 Nov 2025) EndedAt: 2025-11-21 18:02:58 -0500 (Fri, 21 Nov 2025) EllapsedTime: 112.1 seconds RetCode: 0 Status: OK PackageFile: OGRE_1.15.0.tar.gz PackageFileSize: 1.728 MiB