Package: OGRE Version: 1.13.1 Command: /Library/Frameworks/R.framework/Resources/bin/R CMD INSTALL OGRE StartedAt: 2025-10-17 15:24:56 -0400 (Fri, 17 Oct 2025) EndedAt: 2025-10-17 15:25:17 -0400 (Fri, 17 Oct 2025) EllapsedTime: 21.3 seconds RetCode: 0 Status: OK