Package: OGRE Version: 1.13.1 Command: /Library/Frameworks/R.framework/Resources/bin/R CMD build --keep-empty-dirs --no-resave-data OGRE StartedAt: 2025-10-15 17:18:19 -0400 (Wed, 15 Oct 2025) EndedAt: 2025-10-15 17:19:08 -0400 (Wed, 15 Oct 2025) EllapsedTime: 48.5 seconds RetCode: 0 Status: OK PackageFile: OGRE_1.13.1.tar.gz PackageFileSize: 1.728 MiB