Package: OCplus Version: 1.85.0 Command: /home/biocbuild/bbs-3.23-bioc/R/bin/R CMD INSTALL OCplus StartedAt: 2025-11-20 15:13:38 -0500 (Thu, 20 Nov 2025) EndedAt: 2025-11-20 15:13:46 -0500 (Thu, 20 Nov 2025) EllapsedTime: 7.1 seconds RetCode: 0 Status: OK