Package: OCplus Version: 1.85.0 Command: /home/biocbuild/bbs-3.23-bioc/R/bin/R CMD build --keep-empty-dirs --no-resave-data OCplus StartedAt: 2025-11-20 19:03:02 -0500 (Thu, 20 Nov 2025) EndedAt: 2025-11-20 19:03:26 -0500 (Thu, 20 Nov 2025) EllapsedTime: 24.0 seconds RetCode: 0 Status: OK PackageFile: OCplus_1.85.0.tar.gz PackageFileSize: 9.586 MiB