Package: OCplus Version: 1.85.0 Command: rm -rf OCplus.buildbin-libdir && mkdir OCplus.buildbin-libdir && /Users/biocbuild/BBS/utils/build-universal.sh OCplus_1.85.0.tar.gz /Library/Frameworks/R.framework/Resources/bin/R OCplus.buildbin-libdir StartedAt: 2025-11-22 01:47:38 -0500 (Sat, 22 Nov 2025) EndedAt: 2025-11-22 01:47:53 -0500 (Sat, 22 Nov 2025) EllapsedTime: 15.0 seconds RetCode: 0 Status: OK PackageFile: OCplus_1.85.0.tgz PackageFileSize: 9.732 MiB