Package: NuPoP Version: 2.19.0 Command: /home/biocbuild/bbs-3.23-bioc/R/bin/R CMD INSTALL NuPoP StartedAt: 2025-11-18 15:55:30 -0500 (Tue, 18 Nov 2025) EndedAt: 2025-11-18 15:55:57 -0500 (Tue, 18 Nov 2025) EllapsedTime: 27.9 seconds RetCode: 0 Status: OK