Package: NuPoP Version: 2.19.0 Command: /home/biocbuild/bbs-3.23-bioc/R/bin/R CMD build --keep-empty-dirs --no-resave-data NuPoP StartedAt: 2025-11-17 19:09:30 -0500 (Mon, 17 Nov 2025) EndedAt: 2025-11-17 19:09:44 -0500 (Mon, 17 Nov 2025) EllapsedTime: 14.0 seconds RetCode: 0 Status: OK PackageFile: NuPoP_2.19.0.tar.gz PackageFileSize: 6.117 MiB