Package: NuPoP Version: 2.19.0 Command: /Library/Frameworks/R.framework/Resources/bin/R CMD INSTALL NuPoP StartedAt: 2025-11-21 15:01:51 -0500 (Fri, 21 Nov 2025) EndedAt: 2025-11-21 15:02:05 -0500 (Fri, 21 Nov 2025) EllapsedTime: 13.6 seconds RetCode: 0 Status: OK