Package: NuPoP Version: 2.19.0 Command: /Library/Frameworks/R.framework/Resources/bin/R CMD build --keep-empty-dirs --no-resave-data NuPoP StartedAt: 2025-11-21 17:09:49 -0500 (Fri, 21 Nov 2025) EndedAt: 2025-11-21 17:09:58 -0500 (Fri, 21 Nov 2025) EllapsedTime: 9.1 seconds RetCode: 0 Status: OK PackageFile: NuPoP_2.19.0.tar.gz PackageFileSize: 6.133 MiB