Package: NuPoP Version: 2.19.0 Command: rm -rf NuPoP.buildbin-libdir && mkdir NuPoP.buildbin-libdir && /Users/biocbuild/BBS/utils/build-universal.sh NuPoP_2.19.0.tar.gz /Library/Frameworks/R.framework/Resources/bin/R NuPoP.buildbin-libdir StartedAt: 2025-11-21 23:43:32 -0500 (Fri, 21 Nov 2025) EndedAt: 2025-11-21 23:43:40 -0500 (Fri, 21 Nov 2025) EllapsedTime: 8.2 seconds RetCode: 0 Status: OK PackageFile: NuPoP_2.19.0.tgz PackageFileSize: 4.399 MiB