Package: NormqPCR Version: 1.55.0 Command: /home/biocbuild/R/R/bin/R CMD INSTALL NormqPCR StartedAt: 2025-10-13 20:47:23 -0000 (Mon, 13 Oct 2025) EndedAt: 2025-10-13 20:47:41 -0000 (Mon, 13 Oct 2025) EllapsedTime: 17.6 seconds RetCode: 0 Status: OK