Package: NormqPCR Version: 1.55.0 Command: /home/biocbuild/R/R/bin/R CMD build --keep-empty-dirs --no-resave-data NormqPCR StartedAt: 2025-10-14 02:15:33 -0000 (Tue, 14 Oct 2025) EndedAt: 2025-10-14 02:15:50 -0000 (Tue, 14 Oct 2025) EllapsedTime: 17.0 seconds RetCode: 0 Status: OK PackageFile: NormqPCR_1.55.0.tar.gz PackageFileSize: 407.8 KiB