Package: NormqPCR Version: 1.57.0 Command: /home/biocbuild/bbs-3.23-bioc/R/bin/R CMD INSTALL NormqPCR StartedAt: 2025-11-20 15:12:35 -0500 (Thu, 20 Nov 2025) EndedAt: 2025-11-20 15:12:42 -0500 (Thu, 20 Nov 2025) EllapsedTime: 6.7 seconds RetCode: 0 Status: OK