Package: NormqPCR Version: 1.55.0 Command: /Library/Frameworks/R.framework/Resources/bin/R CMD build --keep-empty-dirs --no-resave-data NormqPCR StartedAt: 2025-10-01 18:06:12 -0400 (Wed, 01 Oct 2025) EndedAt: 2025-10-01 18:06:33 -0400 (Wed, 01 Oct 2025) EllapsedTime: 20.5 seconds RetCode: 0 Status: OK PackageFile: NormqPCR_1.55.0.tar.gz PackageFileSize: 417.5 KiB