Package: NormqPCR Version: 1.55.0 Command: rm -rf NormqPCR.buildbin-libdir && mkdir NormqPCR.buildbin-libdir && /Users/biocbuild/BBS/utils/build-universal.sh NormqPCR_1.55.0.tar.gz /Library/Frameworks/R.framework/Resources/bin/R NormqPCR.buildbin-libdir StartedAt: 2025-10-01 01:56:05 -0400 (Wed, 01 Oct 2025) EndedAt: 2025-10-01 01:56:19 -0400 (Wed, 01 Oct 2025) EllapsedTime: 14.1 seconds RetCode: 0 Status: OK PackageFile: NormqPCR_1.55.0.tgz PackageFileSize: 501.8 KiB