Package: NormalyzerDE Version: 1.27.0 Command: /home/biocbuild/bbs-3.22-bioc/R/bin/R CMD INSTALL NormalyzerDE StartedAt: 2025-10-13 15:41:01 -0400 (Mon, 13 Oct 2025) EndedAt: 2025-10-13 15:41:24 -0400 (Mon, 13 Oct 2025) EllapsedTime: 22.5 seconds RetCode: 0 Status: OK