Package: NormalyzerDE Version: 1.27.0 Command: /home/biocbuild/bbs-3.22-bioc/R/bin/R CMD build --keep-empty-dirs --no-resave-data --md5 NormalyzerDE StartedAt: 2025-10-13 19:07:04 -0400 (Mon, 13 Oct 2025) EndedAt: 2025-10-13 19:08:21 -0400 (Mon, 13 Oct 2025) EllapsedTime: 77.1 seconds RetCode: 0 Status: OK PackageFile: NormalyzerDE_1.27.0.tar.gz PackageFileSize: 1.115 MiB