Package: NoRCE Version: 1.23.0 Command: /home/biocbuild/bbs-3.23-bioc/R/bin/R CMD INSTALL NoRCE StartedAt: 2025-11-26 15:39:22 -0500 (Wed, 26 Nov 2025) EndedAt: 2025-11-26 15:40:03 -0500 (Wed, 26 Nov 2025) EllapsedTime: 41.4 seconds RetCode: 0 Status: OK