Package: NoRCE Version: 1.23.0 Command: /home/biocbuild/bbs-3.23-bioc/R/bin/R CMD build --keep-empty-dirs --no-resave-data NoRCE StartedAt: 2025-11-26 19:01:40 -0500 (Wed, 26 Nov 2025) EndedAt: 2025-11-26 19:02:23 -0500 (Wed, 26 Nov 2025) EllapsedTime: 43.0 seconds RetCode: 0 Status: OK PackageFile: NoRCE_1.23.0.tar.gz PackageFileSize: 2.025 MiB