Package: NoRCE Version: 1.23.0 Command: /Library/Frameworks/R.framework/Resources/bin/R CMD build --keep-empty-dirs --no-resave-data NoRCE StartedAt: 2025-11-21 17:08:55 -0500 (Fri, 21 Nov 2025) EndedAt: 2025-11-21 17:09:15 -0500 (Fri, 21 Nov 2025) EllapsedTime: 20.2 seconds RetCode: 0 Status: OK PackageFile: NoRCE_1.23.0.tar.gz PackageFileSize: 2.025 MiB