Package: NoRCE Version: 1.23.0 Command: rm -rf NoRCE.buildbin-libdir && mkdir NoRCE.buildbin-libdir && /Users/biocbuild/BBS/utils/build-universal.sh NoRCE_1.23.0.tar.gz /Library/Frameworks/R.framework/Resources/bin/R NoRCE.buildbin-libdir StartedAt: 2025-11-21 23:43:17 -0500 (Fri, 21 Nov 2025) EndedAt: 2025-11-21 23:43:38 -0500 (Fri, 21 Nov 2025) EllapsedTime: 20.5 seconds RetCode: 0 Status: OK PackageFile: NoRCE_1.23.0.tgz PackageFileSize: 2.384 MiB